BEGIN:VCALENDAR
VERSION:2.0
PRODID:Events Booking
BEGIN:VEVENT
UID:69e4cb7bc8484
SUMMARY:WEST HAMPSTEAD....guided walking tour
DESCRIPTION:Join Barrie for this interesting walking tour of West Hampstead
DTSTART:20260228T113000Z
DTEND:20260228T133000Z
DTSTAMP:20260212T112307Z
ORGANIZER;CN=45+ No Grumpy Website Admin:MAILTO:admin@45plusnotgrumpy.com
END:VEVENT
END:VCALENDAR