BEGIN:VCALENDAR
VERSION:2.0
PRODID:Events Booking
BEGIN:VEVENT
UID:69e9cec28d422
SUMMARY:The Old Jewish Neighbourhood walking tour with qualified guide Laur
 ence
DESCRIPTION:Join Blue Badge Guide Laurence for this interesting walking tou
 r of the old Jewish neighbourhood
DTSTART:20260509T100000Z
DTEND:20260509T120000Z
DTSTAMP:20260422T104713Z
ORGANIZER;CN=45+ No Grumpy Website Admin:MAILTO:admin@45plusnotgrumpy.com
END:VEVENT
END:VCALENDAR