BEGIN:VCALENDAR
VERSION:2.0
PRODID:Events Booking
BEGIN:VEVENT
UID:69e96601a42fa
SUMMARY:VICTORIA ..... not just a station !
DESCRIPTION:Join Barrie for this interesting walk around Victoria with Barr
 ie
DTSTART:20260516T110000Z
DTEND:20260516T133000Z
DTSTAMP:20260422T105531Z
ORGANIZER;CN=45+ No Grumpy Website Admin:MAILTO:admin@45plusnotgrumpy.com
END:VEVENT
END:VCALENDAR