BEGIN:VCALENDAR
VERSION:2.0
PRODID:Events Booking
BEGIN:VEVENT
UID:69e7354f80812
SUMMARY:Woolwich to Greenwich\, Walking the Thames Path {7 miles}
DESCRIPTION:Join Paul for a lovely walk from Woolwich to Greenwich
DTSTART:20250207T110000Z
DTEND:20250207T160000Z
DTSTAMP:20250119T112047Z
ORGANIZER;CN=45+ No Grumpy Website Admin:MAILTO:admin@45plusnotgrumpy.com
END:VEVENT
END:VCALENDAR