BEGIN:VCALENDAR
VERSION:2.0
PRODID:Events Booking
BEGIN:VEVENT
UID:69e743905884d
SUMMARY:NEW! The Wonderful Women of Westminster - tour with Blue Badge guid
 e Laurence
DESCRIPTION:There are not enough statues of great women in London\, but the
 re are a few and their legacies whistle through the ages in a number of pl
 aces. Join Blue Badge Guide Lawrence to discover these
LOCATION:Victoria Embankment\, London\, UK
DTSTART:20260206T110000Z
DTEND:20260206T130000Z
DTSTAMP:20251228T165127Z
ORGANIZER;CN=45+ No Grumpy Website Admin:MAILTO:admin@45plusnotgrumpy.com
GEO:51.509982;-0.117819
X-APPLE-STRUCTURED-LOCATION;VALUE=URI;X-ADDRESS=Victoria Embankment\, Londo
 n\, UK;X-APPLE-RADIUS=72;X-TITLE=Portcullis House:51.509982;-0.117819
END:VEVENT
END:VCALENDAR