BEGIN:VCALENDAR
VERSION:2.0
PRODID:Events Booking
BEGIN:VEVENT
UID:69e7467b8cbf8
SUMMARY:Riverside Parks\,Towpath\, woodland\,pubs and cafes Putney Circular
  {8 Miles}
DESCRIPTION:Join Paul for this is a walk was popular last time\, and is def
 initely worth going on\, as there is lots to see and many photographic opp
 ortunities
LOCATION:Brewhouse Ln\, Putney\, London SW15\, UK
DTSTART:20260131T104500Z
DTEND:20260131T154500Z
DTSTAMP:20260106T121427Z
ORGANIZER;CN=45+ No Grumpy Website Admin:MAILTO:admin@45plusnotgrumpy.com
GEO:51.46484;-0.213318
X-APPLE-STRUCTURED-LOCATION;VALUE=URI;X-ADDRESS=Brewhouse Ln\, Putney\, Lon
 don SW15\, UK;X-APPLE-RADIUS=72;X-TITLE=The Rocket:51.46484;-0.213318
END:VEVENT
END:VCALENDAR