BEGIN:VCALENDAR
VERSION:2.0
PRODID:Events Booking
BEGIN:VEVENT
UID:69e50a215b299
SUMMARY:4 Royal Parks and 1 which is not.
DESCRIPTION:Join Paul for this lovely walk in London's parks
DTSTART:20260211T110000Z
DTEND:20260211T150000Z
DTSTAMP:20260106T122225Z
ORGANIZER;CN=45+ No Grumpy Website Admin:MAILTO:admin@45plusnotgrumpy.com
END:VEVENT
END:VCALENDAR