BEGIN:VCALENDAR
VERSION:2.0
PRODID:Events Booking
BEGIN:VEVENT
UID:69e5089065214
SUMMARY:Crayford Rail Station to Falconwood station. A delight of Woodland 
 & Rivers.
DESCRIPTION:Join Paul for an 8 mile walk with lots of Green Spaces\, Parkla
 nd &amp\; Woodland as you follow the River Shuttle one of London's lesser 
 known rivers and see the wild life there.
DTSTART:20260214T104500Z
DTEND:20260214T154500Z
DTSTAMP:20260106T122749Z
ORGANIZER;CN=45+ No Grumpy Website Admin:MAILTO:admin@45plusnotgrumpy.com
END:VEVENT
END:VCALENDAR