BEGIN:VCALENDAR
VERSION:2.0
PRODID:Events Booking
BEGIN:VEVENT
UID:69e744bdf173a
SUMMARY:Uber boat from Embankment Pier to Woolwich {Royal Arsenal} then 6 m
 ile Walk.
DESCRIPTION:This was so popular last time\, and is well worth coming along 
 on.Join Paul on an enjoyable boat ride on the Uber Boat from Embankment Pi
 er to Woolwich.
DTSTART:20260228T104500Z
DTEND:20260228T144500Z
DTSTAMP:20260106T123855Z
ORGANIZER;CN=45+ No Grumpy Website Admin:MAILTO:admin@45plusnotgrumpy.com
END:VEVENT
END:VCALENDAR