BEGIN:VCALENDAR
VERSION:2.0
PRODID:Events Booking
BEGIN:VEVENT
UID:69e5456eb614b
SUMMARY:Day in Reading - bus to Sonning\,River Thames Walk\, Visit to Readi
 ng Museum
DESCRIPTION:Join Paul for this lively and fun day in Reading
DTSTART:20260307T104500Z
DTEND:20260307T154500Z
DTSTAMP:20260107T123138Z
ORGANIZER;CN=45+ No Grumpy Website Admin:MAILTO:admin@45plusnotgrumpy.com
END:VEVENT
END:VCALENDAR