BEGIN:VCALENDAR
VERSION:2.0
PRODID:Events Booking
BEGIN:VEVENT
UID:69e58a3fba4cc
SUMMARY:Margate to Broadstairs.
DESCRIPTION:Join Paul for a coastal walk from Margate to Broadstairs
DTSTART:20260404T103500Z
DTEND:20260404T160000Z
DTSTAMP:20260107T125008Z
ORGANIZER;CN=45+ No Grumpy Website Admin:MAILTO:admin@45plusnotgrumpy.com
END:VEVENT
END:VCALENDAR