BEGIN:VCALENDAR
VERSION:2.0
PRODID:Events Booking
BEGIN:VEVENT
UID:69e50a215b143
SUMMARY:KNIGHTSBRIDGE...another great guided walking tour with Barrie
DESCRIPTION:Join Barrie for this walking tour of Knightbridge
LOCATION:Knightsbridge\, London\, UK
DTSTART:20260214T120000Z
DTEND:20260214T143000Z
DTSTAMP:20260203T103308Z
ORGANIZER;CN=45+ No Grumpy Website Admin:MAILTO:admin@45plusnotgrumpy.com
GEO:51.49912;-0.164439
X-APPLE-STRUCTURED-LOCATION;VALUE=URI;X-ADDRESS=Knightsbridge\, London\, UK
 ;X-APPLE-RADIUS=72;X-TITLE=Harvey Nicolls:51.49912;-0.164439
END:VEVENT
END:VCALENDAR