BEGIN:VCALENDAR
VERSION:2.0
PRODID:Events Booking
BEGIN:VEVENT
UID:69e53294cc956
SUMMARY:Pauls Friday walk Baker Street to Green Park
DESCRIPTION:Join Paul for an enjoyable walk from Baker Street to Green Park
 .&nbsp\;Walking distance approx 6-7 miles walking will be at normal pace w
 ith time allowed to take photographs.
DTSTART:20260225T103000Z
DTEND:20260225T150000Z
DTSTAMP:20260203T103633Z
ORGANIZER;CN=45+ No Grumpy Website Admin:MAILTO:admin@45plusnotgrumpy.com
END:VEVENT
END:VCALENDAR