BEGIN:VCALENDAR
VERSION:2.0
PRODID:Events Booking
BEGIN:VEVENT
UID:69e5437abac59
SUMMARY:Blackheath Circular Walk (5 miles}
DESCRIPTION:Join Paul for this new circular walk\, and there is plenty to s
 ee on it.
DTSTART:20260302T104500Z
DTEND:20260302T144500Z
DTSTAMP:20260203T104217Z
ORGANIZER;CN=45+ No Grumpy Website Admin:MAILTO:admin@45plusnotgrumpy.com
END:VEVENT
END:VCALENDAR