BEGIN:VCALENDAR
VERSION:2.0
PRODID:Events Booking
BEGIN:VEVENT
UID:69e51e204422d
SUMMARY:The White Swan Highbury & Islington to Little Venice via Camley Nat
 ural Park.
DESCRIPTION:Join Paul on this enjoyable walk from The White Swan Pub {Wethe
 rspoons} to Little Venice walking distance {approx 7 miles}.
DTSTART:20260220T110000Z
DTEND:20260220T150000Z
DTSTAMP:20260205T151408Z
ORGANIZER;CN=45+ No Grumpy Website Admin:MAILTO:admin@45plusnotgrumpy.com
END:VEVENT
END:VCALENDAR