BEGIN:VCALENDAR
VERSION:2.0
PRODID:Events Booking
BEGIN:VEVENT
UID:69e5194d8dd0d
SUMMARY:VICTORIA ..... not just a station !
DESCRIPTION:Join Barrie for this new walking tour of Victoria
DTSTART:20260221T120000Z
DTEND:20260221T143000Z
DTSTAMP:20260205T151826Z
ORGANIZER;CN=45+ No Grumpy Website Admin:MAILTO:admin@45plusnotgrumpy.com
END:VEVENT
END:VCALENDAR