BEGIN:VCALENDAR
VERSION:2.0
PRODID:Events Booking
BEGIN:VEVENT
UID:69e57a1b95c16
SUMMARY:It's only RocknRoll but I like it! walking tour with Blue Badge gui
 de Laurence
DESCRIPTION:Join Blue Badge Guide Laurence to enjoy a walking tour of the W
 est End
LOCATION:Goodge St\, Fitzrovia\, London W1T\, UK
DTSTART:20260328T110000Z
DTEND:20260328T130000Z
DTSTAMP:20260212T113238Z
ORGANIZER;CN=45+ No Grumpy Website Admin:MAILTO:admin@45plusnotgrumpy.com
GEO:51.519583;-0.135197
X-APPLE-STRUCTURED-LOCATION;VALUE=URI;X-ADDRESS=Goodge St\, Fitzrovia\, Lon
 don W1T\, UK;X-APPLE-RADIUS=72;X-TITLE=Goodge Street Station:51.519583;-0.
 135197
END:VEVENT
END:VCALENDAR