BEGIN:VCALENDAR
VERSION:2.0
PRODID:Events Booking
BEGIN:VEVENT
UID:69e542b4c31db
SUMMARY:Riverside Walk From Canary Wharf to Wapping - With a Few Historic P
 ubs
DESCRIPTION:Join Paul for this riverside walk
DTSTART:20260301T113000Z
DTEND:20260301T133000Z
DTSTAMP:20260218T093141Z
ORGANIZER;CN=45+ No Grumpy Website Admin:MAILTO:admin@45plusnotgrumpy.com
END:VEVENT
END:VCALENDAR