BEGIN:VCALENDAR
VERSION:2.0
PRODID:Events Booking
BEGIN:VEVENT
UID:69e541d0a40ca
SUMMARY:Picturesque Friday walk. Highgate to Clapton.
DESCRIPTION:Join Paul fo this popular walk around Highgate to Clapton
DTSTART:20260306T110000Z
DTEND:20260306T150000Z
DTSTAMP:20260218T093458Z
ORGANIZER;CN=45+ No Grumpy Website Admin:MAILTO:admin@45plusnotgrumpy.com
END:VEVENT
END:VCALENDAR