BEGIN:VCALENDAR
VERSION:2.0
PRODID:Events Booking
BEGIN:VEVENT
UID:69e5320a8d98b
SUMMARY:Zoom Session on Uzbekistan/Georgia/Armenia and Albania
DESCRIPTION:Grab a glass of wine and join Dee and Jo over Zoom to hear abou
 t tours to Uzbekistan\, Kyrgyzstan\, Georgia/Armenia and other exciting de
 stinations. We'll tell you about the tours and answer any questions that y
 ou might have. We will send a Zoom link out to all who sign up.
DTSTART:20260228T180000Z
DTEND:20260228T190000Z
DTSTAMP:20260226T103803Z
ORGANIZER;CN=45+ No Grumpy Website Admin:MAILTO:admin@45plusnotgrumpy.com
END:VEVENT
END:VCALENDAR