BEGIN:VCALENDAR
VERSION:2.0
PRODID:Events Booking
BEGIN:VEVENT
UID:69e8b5d091740
SUMMARY:ESCAPE TO THE SOUTH BANK
DESCRIPTION:Join David&nbsp\;on this fascinating stroll through London's pu
 blic art history.
DTSTART:20260424T110000Z
DTEND:20260424T133000Z
DTSTAMP:20260422T082253Z
ORGANIZER;CN=45+ No Grumpy Website Admin:MAILTO:admin@45plusnotgrumpy.com
END:VEVENT
END:VCALENDAR