BEGIN:VCALENDAR
VERSION:2.0
PRODID:Events Booking
BEGIN:VEVENT
UID:69e8f68713f11
SUMMARY:Crayford Rail Station to Falconwood station. A delight of Woodland 
 & Rivers.
DESCRIPTION:Join Paul on an enjoyable 8 mile walk starting at Crayford Rail
  Station and ending up the Falcon Pub which is opposite Falconwood Rail St
 ation
LOCATION:25 Crayford High St\, Dartford DA1 4HH\, UK
DTSTART:20260613T094500Z
DTEND:20260613T150000Z
DTSTAMP:20260422T111347Z
ORGANIZER;CN=45+ No Grumpy Website Admin:MAILTO:admin@45plusnotgrumpy.com
GEO:51.452446;0.177234
X-APPLE-STRUCTURED-LOCATION;VALUE=URI;X-ADDRESS=25 Crayford High St\, Dartf
 ord DA1 4HH\, UK;X-APPLE-RADIUS=72;X-TITLE=Crayford Station Stop H:51.4524
 46;0.177234
END:VEVENT
END:VCALENDAR