BEGIN:VCALENDAR
VERSION:2.0
PRODID:Events Booking
BEGIN:VEVENT
UID:69e8af71d0e71
SUMMARY:Yoga and Meditation with Carmina 23-04
DESCRIPTION:Please PAY HERE to get the ZOOM LINK: https://events.more-human
 .co.uk/detail2/1615809561931x794373822367662100?checkout=true
 JOIN CARMI
 NA FOR AN AFTERNOON PRACTICE SESSION OF YOGA AND MEDITATION\, FROM THE COM
 FORT OF YOUR OWN HOME.
 Please ignore the \"Register\" button below.
DTSTART:20210423T120000Z
DTEND:20210423T131000Z
DTSTAMP:20260422T042225Z
ORGANIZER;CN=45+ No Grumpy Website Admin:MAILTO:admin@45plusnotgrumpy.com
END:VEVENT
END:VCALENDAR