BEGIN:VCALENDAR
VERSION:2.0
PRODID:Events Booking
BEGIN:VEVENT
UID:69e8af6c22e25
SUMMARY:Dee and Anne's Quiz 17-04
DESCRIPTION:Please PAY HERE to get the ZOOM LINK: https://events.more-human
 .co.uk/detail2/1617562451540x828806638992359400?checkout=true
 JOIN DEE A
 ND ANNE FOR A QUIZ
 Please ignore the \"Register\" button below.
DTSTART:20210417T180000Z
DTEND:20210417T193000Z
DTSTAMP:20260422T042220Z
ORGANIZER;CN=45+ No Grumpy Website Admin:MAILTO:admin@45plusnotgrumpy.com
END:VEVENT
END:VCALENDAR