BEGIN:VCALENDAR
VERSION:2.0
PRODID:Events Booking
BEGIN:VEVENT
UID:69ea0511b4d3b
SUMMARY:Coastal Walk from Herne Bay to Whitstable
DESCRIPTION:Join Paul on an enjoyable costal walk frm Herne Bay to Whitstab
 le.
DTSTART:20260523T100000Z
DTEND:20260523T150000Z
DTSTAMP:20260422T110107Z
ORGANIZER;CN=45+ No Grumpy Website Admin:MAILTO:admin@45plusnotgrumpy.com
END:VEVENT
END:VCALENDAR