BEGIN:VCALENDAR
VERSION:2.0
PRODID:Events Booking
BEGIN:VEVENT
UID:69e90a277ecf3
SUMMARY:Nooks and Crannies of London- walking tour with Blue Badge guide La
 urence
DESCRIPTION:Join Blue Badge Guide Laurence for this walking tour of the Hol
 borne area
DTSTART:20260530T100000Z
DTEND:20260530T120000Z
DTSTAMP:20260422T110410Z
ORGANIZER;CN=45+ No Grumpy Website Admin:MAILTO:admin@45plusnotgrumpy.com
END:VEVENT
END:VCALENDAR