BEGIN:VCALENDAR
VERSION:2.0
PRODID:Events Booking
BEGIN:VEVENT
UID:69e8e7d76dab6
SUMMARY:Folkestone Central to Hythe
DESCRIPTION:Join Paul&nbsp\;on an enjoyable walk from Folkestone Central to
  Hythe.
DTSTART:20260606T100000Z
DTEND:20260606T150000Z
DTSTAMP:20260422T111011Z
ORGANIZER;CN=45+ No Grumpy Website Admin:MAILTO:admin@45plusnotgrumpy.com
END:VEVENT
END:VCALENDAR